BEGIN:VCALENDAR
VERSION:2.0
PRODID:-// - ECPv6.13.2.1//NONSGML v1.0//EN
CALSCALE:GREGORIAN
METHOD:PUBLISH
X-ORIGINAL-URL:https://mayfaircommunity.com
X-WR-CALDESC:Events for 
REFRESH-INTERVAL;VALUE=DURATION:PT1H
X-Robots-Tag:noindex
X-PUBLISHED-TTL:PT1H
BEGIN:VTIMEZONE
TZID:UTC
BEGIN:STANDARD
TZOFFSETFROM:+0000
TZOFFSETTO:+0000
TZNAME:UTC
DTSTART:20240101T000000
END:STANDARD
END:VTIMEZONE
BEGIN:VEVENT
DTSTART;TZID=UTC:20241029T180000
DTEND;TZID=UTC:20241029T190000
DTSTAMP:20260423T191558
CREATED:20241028T160939Z
LAST-MODIFIED:20241028T163109Z
UID:1011-1730224800-1730228400@mayfaircommunity.com
SUMMARY:Board of Directors Meeting - 10/29/2024
DESCRIPTION:Board of Directors Meeting – 10/29/2024
URL:https://mayfaircommunity.com/event/board-of-directors-meeting-10-29-2024/
LOCATION:Mayfair Pool
END:VEVENT
END:VCALENDAR